BEGIN:VCALENDAR
VERSION:2.0
PRODID:-//FormaGenova
CALSCALE:GREGORIAN
METHOD:PUBLISH
X-WR-CALNAME:FormaGenova
X-ORIGINAL-URL:https://formagenova.it/prodotto/denys-lasdun-architettura-delle-forme-base-a-cura-di-carlo-prati/
X-WR-CALDESC:Denys Lasdun. Architettura delle Forme-Base a cura di Carlo Prati
BEGIN:VEVENT
DTSTART:20260515T170000
DTEND:20260515T190000
SUMMARY:Denys Lasdun. Architettura delle Forme-Base a cura di Carlo Prati
DESCRIPTION:<strong>Venerdì 15 maggio 2026 dalle 17.00 alle19.00</strong> l’Auditorium Gabrielli in piazza San Matteo 18,la conferenza dedicata alla figura dell’architetto britannico Denys Lasdun. Per l’occasione, Carlo Prati, autore della recente pubblicazione <em>Denys Lasdun. Architettura delle Forme-Base </em>(Edizioni Pendragon, aprile 2026) dialogherà con Marco Biraghi, Valter Scelsi e Guglielmo Bilancioni.

2 CFP con iscrizione su Formagenova.it.

Sir Denys Lasdun ha mostrato come si progetta un’architettura capace di farsi simbolo di valori etici condivisi, indicando un metodo da seguire per dare forma a quest’ideale civico e dimostrando come si possa radicare un’opera in un luogo, affinché perduri nel tempo.

Il libro ricostruisce e analizza le tappe principali della vicenda architettonica di Lasdun: la inserisce nella prospettiva storica e culturale all’interno di cui si sviluppa e ne mette in luce le principali unità tettoniche e qualità visive di riferimento. Gli aspetti che questo studio mette in luce, esemplificano questioni disciplinari cruciali, come il rapporto che l’architettura – madre e regina di tutte le arti – intrattiene con tecnologia, storia, filosofia, politica, comunicazione e società nel suo complesso.

“Prati, coinvolto in prima persona nella pratica progettuale tanto come professore universitario quanto a livello professionale, vede in Lasdun un illustre predecessore dal quale utilmente imparare e far imparare. In tal senso, il suo libro non rappresenta tanto – o soltanto – il pur opportuno “recupero” di una figura fin troppo trascurata dalla storiografia (la sola monografia su Lasdun è quella di William J. R. Curtis, risalente al 1994), ma possiede un carattere esplicitamente operativo, come attesta la scelta di comprendere in esso numerosi ed accurati ridisegni planimetrici e assonometrici delle principali opere dell’architetto londinese”. (Dalla prefazione di Marco Biraghi)

<strong>Carlo Prati</strong> è professore associato in composizione architettonica presso il Dipartimento di Architettura dell’Università degli studi G. d’Annunzio di Chieti/Pescara. I suoi progetti e disegni sono stati selezionati per pubblicazioni, mostre, eventi e premiati in concorsi nazionali ed internazionali. Alla ricerca e alla didattica affianca un’intensa attività editoriale, fra le sue pubblicazioni ricordiamo: <em>Elementi e forme dell’architettura svizzera contemporanea</em> (Libria, 2024), <em>Architettura oltre la fine del mondo</em> (LetteraVentidue, 2022), <em>Iperoggetto periferia</em> (Bordeaux, 2021), <em>Lo spazio del vuoto</em> (LetteraVentidue, 2020).
LOCATION:
END:VEVENT
END:VCALENDAR
