BEGIN:VCALENDAR
VERSION:2.0
PRODID:-//FormaGenova
CALSCALE:GREGORIAN
METHOD:PUBLISH
X-WR-CALNAME:FormaGenova
X-ORIGINAL-URL:https://formagenova.it/prodotto/bioinnovazione-per-architetti-e-designer/
X-WR-CALDESC:Bioinnovazione per architetti e designer
BEGIN:VEVENT
DTSTART:20260130T150000
DTEND:20260213T180000
SUMMARY:Bioinnovazione per architetti e designer
DESCRIPTION:<div class="page" title="Page 1">
<div class="layoutArea">
<div class="column">

Il corso si svolge in tre moduli da 4h in modalità ibrida (presenza e online) con l’ausilio di videolezioni in inglese sottotitolate. I contributi in aula saranno esclusivamente in lingua italiana. Il corso affronta il tema della bioinnovazione e della circolarità nelle città, nell’architettura e nei prodotti di arredo.

Lezioni online fruibili da remoto: tre moduli di flipped lesson di circa 40 minuti potranno essere fruite da remoto e valgono circa 6h divise in tre lezioni tematiche realizzate dai partner accademici del progetto europeo CiD Circular Design for bio-based innovation towards climate-neutral cities: Leibniz University Hannover sulla trasformazione urbana circolare, Institute for Advanced Architecture of Catalonia sull’architettura avanzata bio-based, e l’Università di Genova - Dipartimento Architettura e Design - sul design circolare di arredo e di prodotto.

Lezioni in presenza: tre moduli da 2 ore l’uno saranno svolti in presenza presso la sede dell’Ordine degli Architetti di Genova. <span style="font-family: -apple-system, BlinkMacSystemFont, 'Segoe UI', Roboto, Oxygen-Sans, Ubuntu, Cantarell, 'Helvetica Neue', sans-serif;">Date: 30.01 - 06.02 - 13.02.2026</span>

Primo incontro: 2h di cui 1h introduzione e 1h di sessione di mentoring di Arces - Palermo su possibili sbocchi professionali nel campo dell’economia circolare.                                                        Secondo incontro: workshop di apprendimento attraverso la pratica sul design circolare e il proprio placement di prodotto.
Terzo incontro: workshop di apprendimento attraverso incontri con aziende Calchèra San Giorgio specializzata in bioedilizia e professionisti Marco Zanini, RE-sign.

Marco Zanini Architetto, attivatore e ricercatore, promuove un’architettura intesa come processo collettivo, radicata nel riuso dei materiali, nel contesto locale e nell’autocostruzione. Grazie all'esperienza con la piattaforma Re-sign, sviluppa soluzioni circolari, coniugando ricerca, partecipazione e pratiche di rigenerazione dal basso. Collabora con il Politecnico di Milano

Totale corso 12h

</div>
</div>
</div>
LOCATION:Ordine degli Architetti Pianificatori Paesaggisti e Conservatori della Provincia di Genova, Piazza di San Matteo, Genova, GE, Italia
END:VEVENT
END:VCALENDAR
