BEGIN:VCALENDAR
VERSION:2.0
PRODID:-//FormaGenova
CALSCALE:GREGORIAN
METHOD:PUBLISH
X-WR-CALNAME:FormaGenova
X-ORIGINAL-URL:https://formagenova.it/prodotto/banche-dati-messe-a-disposizione-dellagenzia-dellentrate/
X-WR-CALDESC:Banche dati messe a disposizione dell’Agenzia dell&#8217;Entrate
BEGIN:VEVENT
DTSTART:20241001T143000
DTEND:20241001T163000
SUMMARY:Banche dati messe a disposizione dell’Agenzia dell&#8217;Entrate
DESCRIPTION:<div class="gmail_default">
<div class="page" title="Page 1">
<div class="section">
<div class="layoutArea">
<div class="column">
<div class="gmail_default">
<div class="gmail_default">

Si svolgerà <strong>martedì 1 ottobre 2024</strong>, dalle ore 14:30 alle 16.30, il seminario formativo sulle <strong>Banche Date Catastali</strong> con rappresentanti e docenti dell’Agenzia Entrate Direzione Regionale della Liguria – Ufficio Servizi Catastali.

Il seminario, a cura dell’arch. Alessandra Zuppa, è rivolto a tutti e, in particolare, ai giovani professionisti e a tutti coloro che si affacciano alla professione.

Valido <strong>2 CFP</strong>.

<strong>Programma</strong>

<strong>I contenuti del sistema informativo catastale</strong>
<ul>
 	<li>Catasto Terreni</li>
 	<li>Catasto Urbano</li>
</ul>
<strong>Presentazione delle banche dati</strong>
<ul>
 	<li>Portale web, denominato “SISTER”,</li>
 	<li>Abilitazione a Sister</li>
 	<li>Ricerche e stampe</li>
 	<li>Eventuali domande da parte dei partecipanti</li>
</ul>
</div>
</div>
</div>
</div>
</div>
</div>
</div>
LOCATION:Ordine degli Architetti Pianificatori Paesaggisti e Conservatori della Provincia di Genova, Piazza di San Matteo, Genova, GE, Italia
END:VEVENT
END:VCALENDAR
