BEGIN:VCALENDAR
VERSION:2.0
PRODID:-//FormaGenova
CALSCALE:GREGORIAN
METHOD:PUBLISH
X-WR-CALNAME:FormaGenova
X-ORIGINAL-URL:https://formagenova.it/prodotto/corso-sicurezza-120-ore-lezione-22-2/
X-WR-CALDESC:Corso sicurezza 120 ore &#8211; lezione 22
BEGIN:VEVENT
DTSTART:20230525T143000
DTEND:20230525T183000
SUMMARY:Corso sicurezza 120 ore &#8211; lezione 22
DESCRIPTION:docente geom. Pasquale Recchia

I criteri metodologici per:

a) l’elaborazione del piano di sicurezza e di coordinamento e l’integrazione con i piani operativi di sicurezza ed il fascicolo

b) l’elaborazione del piano operativo di sicurezza

c) l’elaborazione del fascicolo

d) l’elaborazione del P.I.M.U.S. (Piano di Montaggio, Uso, Smontaggio dei ponteggi

e) la stima dei costi della sicurezza
LOCATION:
END:VEVENT
END:VCALENDAR
