BEGIN:VCALENDAR
VERSION:2.0
PRODID:-//FormaGenova
CALSCALE:GREGORIAN
METHOD:PUBLISH
X-WR-CALNAME:FormaGenova
X-ORIGINAL-URL:https://formagenova.it/prodotto/appalto-in-condominio-con-particolare-riferimento-ai-bonus-edilizi-ruolo-del-professionista-tecnico/
X-WR-CALDESC:Appalto in Condominio con particolare riferimento ai bonus edilizi/ruolo del professionista tecnico
BEGIN:VEVENT
DTSTART:20220225T150000
DTEND:20220225T170000
SUMMARY:Appalto in Condominio con particolare riferimento ai bonus edilizi/ruolo del professionista tecnico
DESCRIPTION:<strong>Appalto in Condominio con particolare riferimento ai bonus edilizi; ruolo del professionista tecnico</strong>

&nbsp;

Venerdì <strong>25 febbraio</strong>, dalle ore 15:00 alle ore 17:00, si svolgerà su <u>Formagenova.it </u>il webinar dedicato al tema dell’appalto in condominio con particolare riferimento ai bonus edilizi e al ruolo del professionista tecnico.

Il corso, a cura dell’Avv. Michele Forino, esperto in diritto condominiale e moderato dall’architetto Roberta Ruggia, è valido <strong>2</strong> <strong>CFP</strong>.

L’incontro è finalizzato a dare indicazioni giuridiche sul ruolo e le responsabilità del tecnico, sulle modalità di acquisizione dell’incarico e la presenza alle assemblee condominiali, in relazione all’attuale normativa.

Eventuali domande possono essere trasmesse via e-mail <a href="mailto:info@archigenova.it">info@archigenova.it</a> entro <u>il 22 febbraio 2022</u>.

&nbsp;
LOCATION:
END:VEVENT
END:VCALENDAR
